BEGIN:VCALENDAR
VERSION:2.0
PRODID:-//511 Bar &amp; Lounge - Fort Lauderdale - ECPv6.15.20//NONSGML v1.0//EN
CALSCALE:GREGORIAN
METHOD:PUBLISH
X-WR-CALNAME:511 Bar &amp; Lounge - Fort Lauderdale
X-ORIGINAL-URL:https://511bar.com
X-WR-CALDESC:Events for 511 Bar &amp; Lounge - Fort Lauderdale
REFRESH-INTERVAL;VALUE=DURATION:PT1H
X-Robots-Tag:noindex
X-PUBLISHED-TTL:PT1H
BEGIN:VTIMEZONE
TZID:UTC
BEGIN:STANDARD
TZOFFSETFROM:+0000
TZOFFSETTO:+0000
TZNAME:UTC
DTSTART:20250101T000000
END:STANDARD
END:VTIMEZONE
BEGIN:VEVENT
DTSTART;TZID=UTC:20260419T120000
DTEND;TZID=UTC:20260419T233000
DTSTAMP:20260421T093714
CREATED:20251027T011442Z
LAST-MODIFIED:20251027T011442Z
UID:10003986-1776600000-1776641400@511bar.com
SUMMARY:Sunday Football at 511
DESCRIPTION:Draft Beer Specials \nBucket Specials
URL:https://511bar.com/event/sunday-football-at-511/2026-04-19/
LOCATION:511 Bar & Lounge\, 511 NE 3rd Ave\, Fort Lauderdale\, FL\, 33301\, United States
END:VEVENT
BEGIN:VEVENT
DTSTART;TZID=UTC:20260419T170000
DTEND;TZID=UTC:20260419T230000
DTSTAMP:20260421T093714
CREATED:20251121T030445Z
LAST-MODIFIED:20260105T222235Z
UID:10005179-1776618000-1776639600@511bar.com
SUMMARY:Food Truck: Flavaz For Dayz
DESCRIPTION:https://flavazfordayz.com/
URL:https://511bar.com/event/food-truck-flavaz-for-dayz/2026-04-19/
LOCATION:511 Bar & Lounge\, 511 NE 3rd Ave\, Fort Lauderdale\, FL\, 33301\, United States
END:VEVENT
END:VCALENDAR