BEGIN:VCALENDAR
VERSION:2.0
PRODID:-//511 Bar &amp; Lounge - Fort Lauderdale - ECPv6.15.20//NONSGML v1.0//EN
CALSCALE:GREGORIAN
METHOD:PUBLISH
X-WR-CALNAME:511 Bar &amp; Lounge - Fort Lauderdale
X-ORIGINAL-URL:https://511bar.com
X-WR-CALDESC:Events for 511 Bar &amp; Lounge - Fort Lauderdale
REFRESH-INTERVAL;VALUE=DURATION:PT1H
X-Robots-Tag:noindex
X-PUBLISHED-TTL:PT1H
BEGIN:VTIMEZONE
TZID:UTC
BEGIN:STANDARD
TZOFFSETFROM:+0000
TZOFFSETTO:+0000
TZNAME:UTC
DTSTART:20250101T000000
END:STANDARD
END:VTIMEZONE
BEGIN:VEVENT
DTSTART;TZID=UTC:20260420T160000
DTEND;TZID=UTC:20260420T230000
DTSTAMP:20260420T204455
CREATED:20250717T235427Z
LAST-MODIFIED:20250717T235427Z
UID:10002580-1776700800-1776726000@511bar.com
SUMMARY:ITB Night - 50% off your tab if you are in the industry
DESCRIPTION:With proof of employment
URL:https://511bar.com/event/itb-night-50-off-your-tab-if-you-are-in-the-industry/2026-04-20/
LOCATION:511 Bar & Lounge\, 511 NE 3rd Ave\, Fort Lauderdale\, FL\, 33301\, United States
END:VEVENT
BEGIN:VEVENT
DTSTART;TZID=UTC:20260420T200000
DTEND;TZID=UTC:20260420T230000
DTSTAMP:20260420T204455
CREATED:20250814T232439Z
LAST-MODIFIED:20250814T232439Z
UID:10002860-1776715200-1776726000@511bar.com
SUMMARY:Monday Night Football
DESCRIPTION:Draft Beer Specials \nBucket Specials \nShot Specials \n  \n 
URL:https://511bar.com/event/monday-night-football/2026-04-20/
LOCATION:511 Bar & Lounge\, 511 NE 3rd Ave\, Fort Lauderdale\, FL\, 33301\, United States
END:VEVENT
END:VCALENDAR